BEGIN:VCALENDAR
PRODID:-//Tendenci - The Open Source AMS for Associations//Tendenci Codebase 12 MIMEDIR//EN
VERSION:2.0
METHOD:PUBLISH
BEGIN:VEVENT
DTSTAMP:20260424T115053Z
ORGANIZER:
DTSTART:20231022T130000Z
DTEND:20231022T153000Z
LOCATION:Eynsham Playing Fields
TRANSP:OPAQUE
SEQUENCE:0
UID:uid101@nature-recovery-network.org
DESCRIPTION:--- This iCal file does *NOT* confirm registration.\r\nEvent details subject to change. ---\r\nhttps://nature-recovery-network.org/events/101/\r\n\r\nEvent Title: Join the Autumn Plantathon!\r\nStart Date / Time: Oct 22, 2023 14:00 PM Europe/London\r\nLocation: Eynsham Playing Fields\r\nGoogle\r\nhttp://maps.google.com/maps?q=1+Oxford+Road,Eynsham,OX29 4HG\r\n\r\nForecast\nhttp://www.weather.com/weather/monthly/OX29 4HG\r\n\r\n \r\nCome and plant out the wildflowers that so many of us have been sowing, potting on and nurturing since last Autumn. Our growers include the Eynsham Beavers, Pinkhill Scouts, FarmAbility, Bridewell, Bartholomew Six Formers and Bartholomew Year 11 A Band, who have been coming down to Long Mead all year and have made a fantastic contribution. Hugest thanks go to NRN&rsquo\;s magnificent regular plant propagators who make it down to Long Mead every week all through the year, through rain and wind and rain... We have a lot of fun and learn a lot - from podding seeds and filling pots (supporting our participants with learning disabilities) to collecting data on individual plants for our research project. If you'd like to join us on a wednesday please email. \r\nWe are delighted to have been chosen by West Oxfordshire District Council to showcase Parish level nature recovery and have received funding for compost, yellow rattle seed, snakeshead fritillary bulbs etc. All the other seed is donated from Long Mead. \r\nThis year, we've increased the range of plants that we are growing to include some of Long Mead's rare wetland wildflowers. By planting them around the local area, we hope to increase their chances survival into the future and make our environs beautiful. Some we will plant out in the Carnival Meadow and some along the streams and damp areas in the Neyotts (the lock meadow).\r\nWe are so excited to be starting on this whole new stage of helping nature recovery in our local area. We saw how it can work when we were cutting hay in the tiny Fishpond's meadow last week... NRN's scythers found a slow worm, thousands of grass hoppers and a silver-washed fritillary butterfly. In the short grass on the other side of the car park there was no evidence of wildlife. \r\nPlease bring trowels, narrow spades, watering cans and bulb planters if you have them. No worries if you haven't. And please register as it helps us know how many plants to bring, and the meeting place may change\r\n --- This iCal file does *NOT* confirm registration.Event details subject to change. ---\r\n\r\n--- By Tendenci - The Open Source AMS for Associations ---\r\n
X-ALT-DESC;FMTTYPE=text/html:<div>--- This iCal file does *NOT* confirm registration.Event details subject to change. ---</div><h1>Event Title: Join the Autumn Plantathon!</h1><div>https://nature-recovery-network.org/events/101/</div><br /><div>When: Oct 22, 2023 14:00 PM Europe/London</div><br />Eynsham Playing Fields<br />1 Oxford Road<br /> OX29 4HG<br /><div>http://maps.google.com/maps?q=1+Oxford+Road,Eynsham,OX29 4HG</div><br /><div>Forecast: http://www.weather.com/weather/monthly/OX29 4HG</div><br /><br /><div><p>&nbsp\;</p>
<p>Come and plant out the wildflowers that so many of us have been sowing, potting on and nurturin<span class="">g since last Autumn. Our&nbsp\;growers include the Eynsham Beavers, Pinkhill Scouts, FarmAbility, Bridewell, Bartholomew Six Formers and Bartholomew Year 11 A Band, who have been comin</span><span class="">g down to Lon</span><span class="">g Mead all year and have made a fantastic contribution. Hugest thanks&nbsp\;go to&nbsp\;</span><span style="font-family: arial\;"><span class="">NRN&rsquo\;s ma</span></span><span class="">gnificent re</span><span class="">gular plant propa</span><span class="">gators who make it down to Lon</span><span class="">g Mead every week all throu</span><span class="">gh the year, through rain and wind and rain... We have a lot of fun and learn a lot - from podding seeds and filling pots (supporting our participants with learning disabilities) to collecting data on individual plants for our research project. If you'd like to join us on a wednesday please email.&nbsp\;</span></p>
<p><span class="">We are delighted to have been chosen by West Oxfordshire District Council to showcase Parish level nature recovery and have received funding for compost, yellow rattle seed, snakeshead fritillary bulbs etc. All the other seed is donated from Long Mead.&nbsp\;</span></p>
<p><span class="">This year, we've increased the range of plants that we are growing to include some of Long Mead's rare wetland wildflowers. By planting them around the local area, we hope to increase their chances survival into the future and make our environs beautiful. Some we will plant out in the Carnival Meadow and some along the streams and damp areas in the Neyotts (the lock meadow).</span></p>
<p><span class="">We are so excited to be starting on this whole new stage of helping nature recovery in our local area. We saw how it can work when we were cutting hay in the tiny Fishpond's meadow last week... NRN's scythers found a slow worm, thousands of&nbsp\;grass hoppers and a silver-washed fritillary butterfly. In the short&nbsp\;grass on the other side of the car park there was no evidence of wildlife.&nbsp\;</span></p>
<p><span class="">Please brin</span><span class="">g trowels, narrow spades, watering cans and bulb planters if you have them. No worries if you haven't. And please re</span><span class="">gister as it helps us know how many plants to brin</span><span class="">g, and the meeting place may change<br /></span></p>
<p><span class="">&nbsp\;</span></p></div><div>--- This iCal file does *NOT* confirm registration.Event details subject to change. ---</div><div>--- Tendenci&reg\; Software by <a href="https://www.tendenci.com">tendenci.com</a> - The Open Source AMS for Associations ---</div>
SUMMARY:Join the Autumn Plantathon!
PRIORITY:5
CLASS:PUBLIC
BEGIN:VALARM
TRIGGER:-PT30M
ACTION:DISPLAY
DESCRIPTION:Reminder
END:VALARM
END:VEVENT
END:VCALENDAR
