BEGIN:VCALENDAR
PRODID:-//Tendenci - The Open Source AMS for Associations//Tendenci Codebase 12 MIMEDIR//EN
VERSION:2.0
METHOD:PUBLISH
BEGIN:VEVENT
DTSTAMP:20260424T113156Z
ORGANIZER:Willow Coppice and Craft Club
DTSTART:20210729T120000Z
DTEND:20210729T140000Z
LOCATION:Peace Oak
TRANSP:OPAQUE
SEQUENCE:0
UID:uid11@nature-recovery-network.org
DESCRIPTION:--- This iCal file does *NOT* confirm registration.\r\nEvent details subject to change. ---\r\nhttps://nature-recovery-network.org/events/11/\r\n\r\nEvent Title: Craft Club Event\r\nStart Date / Time: Jul 29, 2021 12:00 PM UTC\r\nLocation: Peace Oak\r\nCraft Club at the Peace Oak is buzzing with activities this week. Artists of the Nature Recovery Network  will be there finishing off their community arts project with a weaving and printing workshop run by artist and tutor Alice Davies.--- This iCal file does *NOT* confirm registration.Event details subject to change. ---\r\n\r\n--- By Tendenci - The Open Source AMS for Associations ---\r\n
X-ALT-DESC;FMTTYPE=text/html:<div>--- This iCal file does *NOT* confirm registration.Event details subject to change. ---</div><h1>Event Title: Craft Club Event</h1><div>https://nature-recovery-network.org/events/11/</div><br /><div>When: Jul 29, 2021 12:00 PM UTC</div><br /><div><p>Craft Club at the Peace Oak is <a href="/news/craft-club-goes-mad-in-peace-oak/">buzzing with activities&nbsp\;</a>this week. Artists of the Nature Recovery Network&nbsp\; will be there finishing off their community arts project with a weaving and printing workshop run by artist and tutor Alice Davies.</p></div><div>--- This iCal file does *NOT* confirm registration.Event details subject to change. ---</div><div>--- Tendenci&reg\; Software by <a href="https://www.tendenci.com">tendenci.com</a> - The Open Source AMS for Associations ---</div>
SUMMARY:Craft Club Event
PRIORITY:5
CLASS:PUBLIC
BEGIN:VALARM
TRIGGER:-PT30M
ACTION:DISPLAY
DESCRIPTION:Reminder
END:VALARM
END:VEVENT
END:VCALENDAR
