BEGIN:VCALENDAR
PRODID:-//Tendenci - The Open Source AMS for Associations//Tendenci Codebase 12 MIMEDIR//EN
VERSION:2.0
METHOD:PUBLISH
BEGIN:VEVENT
DTSTAMP:20260424T104220Z
ORGANIZER:Long Mead and Alice Walker Art for Nature Recovery Network
DTSTART:20220212T020000Z
DTEND:20220212T053000Z
LOCATION:Millenium Wood
TRANSP:OPAQUE
SEQUENCE:0
UID:uid21@nature-recovery-network.org
DESCRIPTION:--- This iCal file does *NOT* confirm registration.\r\nEvent details subject to change. ---\r\nhttps://nature-recovery-network.org/events/21/\r\n\r\nEvent Title: Winter Trees\r\nStart Date / Time: Feb 12, 2022 03:00 AM Europe/Zurich\r\nLocation: Millenium Wood\r\nSpeaker: Alice Walker, Toby Swift\r\n \r\nLearn to identify common local trees by their bark, buds, shape with local expert Toby Swift of the Wychwood Forest Trust in this interactive workshop. In the afternoon, an opportunity to create some tree-inspired art in response to the morning's workshop, led by local artist Alice Walker.\r\nNo experience needed.\r\nThe morning workshop is open to everyone and can be attended on its own. The afternoon workshop, since it is an artistic response to fieldwork, requires attendance of the morning workshop.\r\n Cost: &pound\;10 (non members) NRN Members Free but places limited - adult (and interested teenagers)--- This iCal file does *NOT* confirm registration.Event details subject to change. ---\r\n\r\n--- By Tendenci - The Open Source AMS for Associations ---\r\n
X-ALT-DESC;FMTTYPE=text/html:<div>--- This iCal file does *NOT* confirm registration.Event details subject to change. ---</div><h1>Event Title: Winter Trees</h1><div>https://nature-recovery-network.org/events/21/</div><br /><div>When: Feb 12, 2022 03:00 AM Europe/Zurich</div><div>Speaker: Alice Walker, Toby Swift</div><br /><div><p>&nbsp\;</p>
<p>Learn to identify common local trees by their bark, buds, shape with local expert <strong>Toby Swift</strong> of the Wychwood Forest Trust in this interactive workshop. In the afternoon, an opportunity to create some tree-inspired art in response to the morning's workshop, led by local artist <strong>Alice Walker.</strong></p>
<p><strong>No experience needed.</strong></p>
<p><strong>The morning workshop is open to everyone and can be attended on its own. The afternoon workshop, since it is an artistic response to fieldwork, requires attendance of the morning workshop.</strong></p>
<p>&nbsp\;Cost: &pound\;10 (non members) NRN Members Free but places limited - adult (and interested teenagers)</p></div><div>--- This iCal file does *NOT* confirm registration.Event details subject to change. ---</div><div>--- Tendenci&reg\; Software by <a href="https://www.tendenci.com">tendenci.com</a> - The Open Source AMS for Associations ---</div>
SUMMARY:Winter Trees
PRIORITY:5
CLASS:PUBLIC
BEGIN:VALARM
TRIGGER:-PT30M
ACTION:DISPLAY
DESCRIPTION:Reminder
END:VALARM
END:VEVENT
END:VCALENDAR
