BEGIN:VCALENDAR
PRODID:-//Tendenci - The Open Source AMS for Associations//Tendenci Codebase 12 MIMEDIR//EN
VERSION:2.0
METHOD:PUBLISH
BEGIN:VEVENT
DTSTAMP:20260422T173450Z
ORGANIZER:Anna Rowlands
DTSTART:20260502T090000Z
DTEND:20260502T140000Z
LOCATION:Long Mead Barn
TRANSP:OPAQUE
SEQUENCE:0
UID:uid249@nature-recovery-network.org
DESCRIPTION:--- This iCal file does *NOT* confirm registration.\r\nEvent details subject to change. ---\r\nhttps://nature-recovery-network.org/events/249/\r\n\r\nEvent Title: Water Vole Survey\r\nStart Date / Time: May 02, 2026 10:00 AM Europe/London\r\nLocation: Long Mead Barn\r\nGoogle\r\nhttp://maps.google.com/maps?q=Oxford+Road,Swinford,OX29 4BT\r\n\r\nForecast\nhttp://www.weather.com/weather/monthly/OX29 4BT\r\n\r\nA unique opportunity to learn water vole surveying techniques alongside local ecologist Anna Rowlands and her expert team.\r\nThis elusive and endangered mammal inhabits the waterways around Eynsham. During this hands-on workshop, you&rsquo\;ll discover how to identify the tell-tale signs of its presence, from neatly chewed vegetation and feeding remains to footprints and its characteristic droppings.\r\nBring a packed lunch and wear suitable clothing (long-sleeved clothing, sturdy boots or wellies, and bring along some gardening gloves and maybe even a walking/ranging pole).\r\nWe at the NRN are moving into our fourth year of water vole surveys, and any data collected from these surveys are being shared with the local biological records centre (TVERC) as well as with BBOWT.\r\nWe invite you as volunteers to come and join us in the survey, and you will be paired up with an experienced lead water vole surveyor. Surveys are based on looking for signs of water voles in the context of droppings, footprints, feeding remains, latrines, paths and burrows.  If you are very quiet, you may in fact see a water vole with your own eyes.  This has been a really fun and interesting day previously. Gaining experience in these surveys means that you can get involved in years to come.\r\n2023 was our first year where we undertook detailed surveys along different sections of the River Thames water network in and around Long Mead. We identified water vole populations living along the Wharf Stream, River Thames, Limb Brook and Eynsham Mead Ditch.  We hope to continue surveying these sections on an annual basis to monitor the continued status of these local water vole populations. \r\nSo come along, enjoy a day with Ratty and gain some experience and enjoy the outdoors and beauty of Eynsham.\r\nPlease make sure that you sign up on the website as we really need to keep track of numbers. \r\n \r\nPlease tell the leader on the day if you would prefer not be photographed.--- This iCal file does *NOT* confirm registration.Event details subject to change. ---\r\n\r\n--- By Tendenci - The Open Source AMS for Associations ---\r\n
X-ALT-DESC;FMTTYPE=text/html:<div>--- This iCal file does *NOT* confirm registration.Event details subject to change. ---</div><h1>Event Title: Water Vole Survey</h1><div>https://nature-recovery-network.org/events/249/</div><br /><div>When: May 02, 2026 10:00 AM Europe/London</div><br />Long Mead Barn<br />Oxford Road<br /> OX29 4BT<br /><div>http://maps.google.com/maps?q=Oxford+Road,Swinford,OX29 4BT</div><br /><div>Forecast: http://www.weather.com/weather/monthly/OX29 4BT</div><br /><br /><div><p data-start="0" data-end="146">A unique opportunity to learn water vole surveying techniques alongside local ecologist <span class="hover:entity-accent entity-underline inline cursor-pointer align-baseline"><span class="whitespace-normal">Anna Rowlands</span></span> and her expert team.</p>
<p data-start="148" data-end="416" data-is-last-node="" data-is-only-node="">This elusive and endangered mammal inhabits the waterways around Eynsham. During this hands-on workshop, you&rsquo\;ll discover how to identify the tell-tale signs of its presence, from neatly chewed vegetation and feeding remains to footprints and its characteristic droppings.</p>
<p style="font-weight: 400\;"><span style="font-weight: 400\;">Bring a packed lunch and wear suitable clothing (long-sleeved clothing, sturdy boots or wellies, and bring along some gardening gloves and maybe even a walking/ranging pole).</span></p>
<p style="font-weight: 400\;">We at the NRN are moving into our fourth year of water vole surveys, and any data collected from these surveys are being shared with the local biological records centre (TVERC) as well as with BBOWT.</p>
<p style="font-weight: 400\;">We invite you as volunteers to come and join us in the survey, and you will be paired up with&nbsp\;an&nbsp\;experienced lead water vole surveyor.&nbsp\;Surveys are based on looking for signs of water voles in the context of droppings, footprints, feeding remains, latrines, paths and burrows. &nbsp\;If you are very quiet, you may in fact see a water vole with your own eyes.&nbsp\; This has been a really fun and interesting day previously. Gaining experience in these surveys means that you can get involved in years to come.</p>
<p style="font-weight: 400\;">2023 was our first year where we undertook detailed surveys along different sections of the River Thames water network in and around Long Mead. We identified water vole populations living along the Wharf Stream, River Thames, Limb Brook and Eynsham Mead Ditch.&nbsp\; We hope to continue surveying these sections on an annual basis to monitor the continued status of these local water vole populations.&nbsp\;</p>
<p style="font-weight: 400\;">So come along, enjoy a day with Ratty and gain some experience and enjoy the outdoors and beauty of Eynsham.</p>
<p><strong>Please make sure that you sign up on the website as we really need to keep track of numbers.&nbsp\;</strong></p>
<p>&nbsp\;</p>
<p><em>Please tell the leader on the day if you would prefer not be photographed.</em></p></div><div>--- This iCal file does *NOT* confirm registration.Event details subject to change. ---</div><div>--- Tendenci&reg\; Software by <a href="https://www.tendenci.com">tendenci.com</a> - The Open Source AMS for Associations ---</div>
SUMMARY:Water Vole Survey
PRIORITY:5
CLASS:PUBLIC
BEGIN:VALARM
TRIGGER:-PT30M
ACTION:DISPLAY
DESCRIPTION:Reminder
END:VALARM
END:VEVENT
END:VCALENDAR
