BEGIN:VCALENDAR
PRODID:-//Tendenci - The Open Source AMS for Associations//Tendenci Codebase 12 MIMEDIR//EN
VERSION:2.0
METHOD:PUBLISH
BEGIN:VEVENT
DTSTAMP:20260424T114347Z
ORGANIZER:Long Mead's Thames Valley Wildflower Meadow Restoration Project
DTSTART:20230331T020000Z
DTEND:20230331T050000Z
LOCATION:Long Mead Barn
TRANSP:OPAQUE
SEQUENCE:0
UID:uid70@nature-recovery-network.org
DESCRIPTION:--- This iCal file does *NOT* confirm registration.\r\nEvent details subject to change. ---\r\nhttps://nature-recovery-network.org/events/70/\r\n\r\nEvent Title: Making Meadows - Workshop for Facilitators\r\nStart Date / Time: Mar 31, 2023 03:00 AM Europe/London\r\nLocation: Long Mead Barn\r\nGoogle\r\nhttp://maps.google.com/maps?q=Oxford+Road,Swinford,OX29 4BT\r\n\r\nForecast\nhttp://www.weather.com/weather/monthly/OX29 4BT\r\n\r\nThis workshop is for Facilitators. Learn how to support communities and other groups in creating wildflower meadows and propagating wildflowers from seed to plant out in created meadows.\r\nThis workshop will cover the do&rsquo\;s and don&rsquo\;ts of creating small community meadows and propagating wildflowers from seed without a polytunnel.\r\n --- This iCal file does *NOT* confirm registration.Event details subject to change. ---\r\n\r\n--- By Tendenci - The Open Source AMS for Associations ---\r\n
X-ALT-DESC;FMTTYPE=text/html:<div>--- This iCal file does *NOT* confirm registration.Event details subject to change. ---</div><h1>Event Title: Making Meadows - Workshop for Facilitators</h1><div>https://nature-recovery-network.org/events/70/</div><br /><div>When: Mar 31, 2023 03:00 AM Europe/London</div><br />Long Mead Barn<br />Oxford Road<br /> OX29 4BT<br /><div>http://maps.google.com/maps?q=Oxford+Road,Swinford,OX29 4BT</div><br /><div>Forecast: http://www.weather.com/weather/monthly/OX29 4BT</div><br /><br /><div><p>This workshop is for Facilitators. Learn how to support communities and other groups in creating wildflower meadows and propagating wildflowers from seed to plant out in created meadows.</p>
<p>This workshop will cover the do&rsquo\;s and don&rsquo\;ts of creating small community meadows and propagating wildflowers from seed without a polytunnel.</p>
<p>&nbsp\;</p></div><div>--- This iCal file does *NOT* confirm registration.Event details subject to change. ---</div><div>--- Tendenci&reg\; Software by <a href="https://www.tendenci.com">tendenci.com</a> - The Open Source AMS for Associations ---</div>
SUMMARY:Making Meadows - Workshop for Facilitators
PRIORITY:5
CLASS:PUBLIC
BEGIN:VALARM
TRIGGER:-PT30M
ACTION:DISPLAY
DESCRIPTION:Reminder
END:VALARM
END:VEVENT
END:VCALENDAR
