BEGIN:VCALENDAR
PRODID:-//Tendenci - The Open Source AMS for Associations//Tendenci Codebase 12 MIMEDIR//EN
VERSION:2.0
METHOD:PUBLISH
BEGIN:VEVENT
DTSTAMP:20260424T130845Z
ORGANIZER:Wylie Horn & Allan Stevens
DTSTART:20230519T213000Z
DTEND:20230519T233000Z
LOCATION:Siemens Carpark
TRANSP:OPAQUE
SEQUENCE:0
UID:uid73@nature-recovery-network.org
DESCRIPTION:--- This iCal file does *NOT* confirm registration.\r\nEvent details subject to change. ---\r\nhttps://nature-recovery-network.org/events/73/\r\n\r\nEvent Title: Dawn Chorus Walk\r\nStart Date / Time: May 19, 2023 22:30 PM Europe/London\r\nLocation: Siemens Carpark\r\nGoogle\r\nhttp://maps.google.com/maps?q=Wharf+Rd,+Eynsham,,Witney,OX29 4BP\r\n\r\nForecast\nhttp://www.weather.com/weather/monthly/OX29 4BP\r\n\r\nDo you want to experience the wonder of an Eynsham dawn chorus? Hear many of our summer visitors, together with our resident species in an early morning symphony.   Wylie Horn and Allen Stevens will be leading an early morning walk on Saturday 20 May. Meet at the Siemens car park at 5.30am. Wear appropriate footwear and clothes. Our route will take us down the Wharf Stream way, towards the river and lock, lasting around 2 hours and back to Eynsham for breakfast. Let&rsquo\;s hope for some good spring weather. --- This iCal file does *NOT* confirm registration.Event details subject to change. ---\r\n\r\n--- By Tendenci - The Open Source AMS for Associations ---\r\n
X-ALT-DESC;FMTTYPE=text/html:<div>--- This iCal file does *NOT* confirm registration.Event details subject to change. ---</div><h1>Event Title: Dawn Chorus Walk</h1><div>https://nature-recovery-network.org/events/73/</div><br /><div>When: May 19, 2023 22:30 PM Europe/London</div><br />Siemens Carpark<br />Wharf Rd, Eynsham,<br /> OX29 4BP<br /><div>http://maps.google.com/maps?q=Wharf+Rd,+Eynsham,,Witney,OX29 4BP</div><br /><div>Forecast: http://www.weather.com/weather/monthly/OX29 4BP</div><br /><br /><div><p>Do you want to experience the wonder of an Eynsham dawn chorus? Hear many of our summer visitors, together with our resident species in an early morning symphony.&nbsp\;<br /> <br /> Wylie Horn and Allen Stevens will be leading an early morning walk on Saturday 20 May. Meet at the Siemens car park at 5.30am. Wear appropriate footwear and clothes. Our route will take us down the Wharf Stream way, towards the river and lock, lasting around 2 hours and back to Eynsham for breakfast. Let&rsquo\;s hope for some good spring weather.&nbsp\;</p></div><div>--- This iCal file does *NOT* confirm registration.Event details subject to change. ---</div><div>--- Tendenci&reg\; Software by <a href="https://www.tendenci.com">tendenci.com</a> - The Open Source AMS for Associations ---</div>
SUMMARY:Dawn Chorus Walk
PRIORITY:5
CLASS:PUBLIC
BEGIN:VALARM
TRIGGER:-PT30M
ACTION:DISPLAY
DESCRIPTION:Reminder
END:VALARM
END:VEVENT
END:VCALENDAR
