BEGIN:VCALENDAR
PRODID:-//Tendenci - The Open Source AMS for Associations//Tendenci Codebase 12 MIMEDIR//EN
VERSION:2.0
METHOD:PUBLISH
BEGIN:VEVENT
DTSTAMP:20260424T105005Z
ORGANIZER:
DTSTART:20230901T114500Z
DTEND:20230901T134500Z
LOCATION:
TRANSP:OPAQUE
SEQUENCE:0
UID:uid98@nature-recovery-network.org
DESCRIPTION:--- This iCal file does *NOT* confirm registration.\r\nEvent details subject to change. ---\r\nhttps://nature-recovery-network.org/events/98/\r\n\r\nEvent Title: Join NRN's Neyotts and Changeable Furlongs Restoration Group\r\nStart Date / Time: Sep 01, 2023 13:45 PM Europe/Zurich\r\nLocation: \r\nSign up here if you're interested in joining in the restoration of the Neyotts Meadow and Changeable Furlongs as part of the Thames Valley Wildflower Meadow Restoration Project. (Ignore the dates on the event, the website requires a date in order to create a sign up) This is a long-term project that will start this winter with some hedge-planting and preparing the ground for next year's spreading of wildflower seed. This will be taken in the hay from Long Mead, next July, chopped up and spread with a manure spreader and then rolled. \r\nThe rarer and slower-growing plants will be propagated by hand by NRN's Plant Propagation group. We are gathering the seed from Long Mead, now, before it gets cut for hay and will be sowing and potting on over the next year. The Plant Propagation Group meets on Wednesday's 10.30 to 3.00pm and on Mondays, Tuesdays and Fridays from 1.30pm to 3.00pm. \r\nIn both meadows, are a few dominant species such as docks and creeping thistle. Not wanting to use herbicides, we will be organising winter work parties to pull these up by hand and work off the odd Sunday lunch. \r\nThere will be also opportunities for joining survey groups, making bird boxes and other habitats. Bring your ideas and muscle!\r\nFind out more about Thames Valley Wildflower Meadow Restoration Project and the restoration process itself.--- This iCal file does *NOT* confirm registration.Event details subject to change. ---\r\n\r\n--- By Tendenci - The Open Source AMS for Associations ---\r\n
X-ALT-DESC;FMTTYPE=text/html:<div>--- This iCal file does *NOT* confirm registration.Event details subject to change. ---</div><h1>Event Title: Join NRN's Neyotts and Changeable Furlongs Restoration Group</h1><div>https://nature-recovery-network.org/events/98/</div><br /><div>When: Sep 01, 2023 13:45 PM Europe/Zurich</div><br /><div><p>Sign up here if you're interested in joining in the restoration of the Neyotts Meadow and Changeable Furlongs as part of the Thames Valley Wildflower Meadow Restoration Project. (Ignore the dates on the event, the website requires a date in order to create a sign up) This is a long-term project that will start this winter with some hedge-planting and preparing the ground for next year's spreading of wildflower seed. This will be taken in the hay from Long Mead, next July, chopped up and spread with a manure spreader and then rolled.&nbsp\;</p>
<p>The rarer and slower-growing plants will be propagated by hand by NRN's Plant Propagation group. We are gathering the seed from Long Mead, now, before it gets cut for hay and will be sowing and potting on over the next year. The Plant Propagation Group meets on Wednesday's 10.30 to 3.00pm and on Mondays, Tuesdays and Fridays from 1.30pm to 3.00pm.&nbsp\;</p>
<p>In both meadows, are a few dominant species such as docks and creeping thistle. Not wanting to use herbicides, we will be organising winter work parties to pull these up by hand and work off the odd Sunday lunch.&nbsp\;</p>
<p>There will be also opportunities for joining survey groups, making bird boxes and other habitats. Bring your ideas and muscle!</p>
<p>Find out more about <a href="http://www.longmeadwildlifesite.org.uk/thames-valley-wildflower-meadow-project.htmlhttp://www.longmeadwildlifesite.org.uk/thames-valley-wildflower-meadow-project.html">Thames Valley Wildflower Meadow Restoration Project </a>and the restoration process itself.</p></div><div>--- This iCal file does *NOT* confirm registration.Event details subject to change. ---</div><div>--- Tendenci&reg\; Software by <a href="https://www.tendenci.com">tendenci.com</a> - The Open Source AMS for Associations ---</div>
SUMMARY:Join NRN's Neyotts and Changeable Furlongs Restoration Group
PRIORITY:5
CLASS:PUBLIC
BEGIN:VALARM
TRIGGER:-PT30M
ACTION:DISPLAY
DESCRIPTION:Reminder
END:VALARM
END:VEVENT
END:VCALENDAR
